BEGIN:VCALENDAR
VERSION:2.0
PRODID:-//Ingå arena - ECPv4.9.7//NONSGML v1.0//EN
CALSCALE:GREGORIAN
METHOD:PUBLISH
X-WR-CALNAME:Ingå arena
X-ORIGINAL-URL:http://ingaarena.fi
X-WR-CALDESC:Händelser för Ingå arena
BEGIN:VTIMEZONE
TZID:"Europe/Helsinki"
BEGIN:DAYLIGHT
TZOFFSETFROM:+0200
TZOFFSETTO:+0300
TZNAME:EEST
DTSTART:20230326T010000
END:DAYLIGHT
BEGIN:STANDARD
TZOFFSETFROM:+0300
TZOFFSETTO:+0200
TZNAME:EET
DTSTART:20231029T010000
END:STANDARD
END:VTIMEZONE
BEGIN:VEVENT
DTSTART;TZID="Europe/Helsinki":20230404T090000
DTEND;TZID="Europe/Helsinki":20230404T110000
DTSTAMP:20260424T001359
CREATED:20230403T090517Z
LAST-MODIFIED:20230403T090517Z
UID:16037-1680598800-1680606000@ingaarena.fi
SUMMARY:Kyrkfjärdens skola/ Heidi Lindström
DESCRIPTION:
URL:http://ingaarena.fi/event/kyrkfjardens-skola-heidi-lindstrom/2023-04-04/
CATEGORIES:Hallen, golvet
END:VEVENT
END:VCALENDAR