BEGIN:VCALENDAR
VERSION:2.0
PRODID:-//Ingå arena - ECPv4.9.7//NONSGML v1.0//EN
CALSCALE:GREGORIAN
METHOD:PUBLISH
X-WR-CALNAME:Ingå arena
X-ORIGINAL-URL:http://ingaarena.fi
X-WR-CALDESC:Händelser för Ingå arena
BEGIN:VTIMEZONE
TZID:"Europe/Helsinki"
BEGIN:DAYLIGHT
TZOFFSETFROM:+0200
TZOFFSETTO:+0300
TZNAME:EEST
DTSTART:20230326T010000
END:DAYLIGHT
BEGIN:STANDARD
TZOFFSETFROM:+0300
TZOFFSETTO:+0200
TZNAME:EET
DTSTART:20231029T010000
END:STANDARD
END:VTIMEZONE
BEGIN:VEVENT
DTSTART;TZID="Europe/Helsinki":20230420T180000
DTEND;TZID="Europe/Helsinki":20230420T203000
DTSTAMP:20260424T151049
CREATED:20230414T195429Z
LAST-MODIFIED:20230414T195429Z
UID:16212-1682013600-1682022600@ingaarena.fi
SUMMARY:IIF Fotboll/ Jalkapallo
DESCRIPTION:
URL:http://ingaarena.fi/event/iif-fotboll-jalkapallo-14/2023-04-20/
CATEGORIES:Plan B
END:VEVENT
END:VCALENDAR