BEGIN:VCALENDAR
VERSION:2.0
PRODID:-//Ingå arena - ECPv4.9.7//NONSGML v1.0//EN
CALSCALE:GREGORIAN
METHOD:PUBLISH
X-WR-CALNAME:Ingå arena
X-ORIGINAL-URL:http://ingaarena.fi
X-WR-CALDESC:Händelser för Ingå arena
BEGIN:VTIMEZONE
TZID:"Europe/Helsinki"
BEGIN:DAYLIGHT
TZOFFSETFROM:+0200
TZOFFSETTO:+0300
TZNAME:EEST
DTSTART:20230326T010000
END:DAYLIGHT
BEGIN:STANDARD
TZOFFSETFROM:+0300
TZOFFSETTO:+0200
TZNAME:EET
DTSTART:20231029T010000
END:STANDARD
END:VTIMEZONE
BEGIN:VEVENT
DTSTART;TZID="Europe/Helsinki":20230121T140000
DTEND;TZID="Europe/Helsinki":20230121T150000
DTSTAMP:20260422T222448
CREATED:20230110T121907Z
LAST-MODIFIED:20230110T121907Z
UID:15940-1674309600-1674313200@ingaarena.fi
SUMMARY:BK-46
DESCRIPTION:
URL:http://ingaarena.fi/event/bk-46-27/2023-01-21/
CATEGORIES:Hallen, konstgräs
END:VEVENT
END:VCALENDAR